BEGIN:VCALENDAR
VERSION:2.0
PRODID:-//Drunen Duinendorp - ECPv6.10.1.1//NONSGML v1.0//EN
CALSCALE:GREGORIAN
METHOD:PUBLISH
X-WR-CALNAME:Drunen Duinendorp
X-ORIGINAL-URL:https://www.drunenduinendorp.nl
X-WR-CALDESC:Evenementen voor Drunen Duinendorp
REFRESH-INTERVAL;VALUE=DURATION:PT1H
X-Robots-Tag:noindex
X-PUBLISHED-TTL:PT1H
BEGIN:VTIMEZONE
TZID:Europe/Amsterdam
BEGIN:DAYLIGHT
TZOFFSETFROM:+0100
TZOFFSETTO:+0200
TZNAME:CEST
DTSTART:20250330T010000
END:DAYLIGHT
BEGIN:STANDARD
TZOFFSETFROM:+0200
TZOFFSETTO:+0100
TZNAME:CET
DTSTART:20251026T010000
END:STANDARD
END:VTIMEZONE
BEGIN:VEVENT
DTSTART;TZID=Europe/Amsterdam:20250228T080000
DTEND;TZID=Europe/Amsterdam:20250304T233000
DTSTAMP:20260424T080645
CREATED:20250211T114026Z
LAST-MODIFIED:20250211T114440Z
UID:928-1740729600-1741131000@www.drunenduinendorp.nl
SUMMARY:Carnaval 2025 Dwergonie - Drunen
DESCRIPTION:  \nCarnaval 2025 in Dwergonië: Een bruisend feest vol traditie en gezelligheid!\nCarnaval in Dwergonië (Drunen) is elk jaar weer een hoogtepunt voor jong en oud. De straten kleuren rood\, geel en groen\, de muziek schalt door de straten en overal zie je feestvierders in de meest uitbundige kostuums. Van vrijdag 28 februari t/m dinsdag 4 maart 2025 staat Drunen volledig in het teken van carnaval\, met een uitgebreid programma vol optochten\, feesten en tradities. \nDe start van het carnavalsseizoen\nHoewel carnaval pas eind februari echt losbarst\, begint het feestgevoel in Dwergonië al eerder. Op 15 februari wordt de carnavalskrant D’n Dwergoniër gepresenteerd\, waarmee de inwoners alvast in de stemming komen. Hierin staat allerlei informatie over het feest\, het programma en natuurlijk de nodige humor. \nOp zondag 23 februari is het tijd voor het Keinder Kupkes Festival in De Voorste Venne. Dit is hét carnavalsfeest voor de jongste feestvierders\, waar kinderen kunnen genieten van muziek\, optredens en spelletjes. Het is een geweldige manier om de carnavalstraditie door te geven aan de volgende generatie en om alvast in de stemming te komen voor de grote dagen. \nDe officiële aftrap: de sleuteloverdracht\nCarnaval begint officieel op donderdag 27 februari met de traditionele sleuteloverdracht. Tijdens deze ceremonie geeft de burgemeester symbolisch de sleutel van Dwergonië aan de Prins Carnaval. Hiermee neemt de Prins\, samen met zijn Raad van Elf\, tijdelijk het ‘bestuur’ van het dorp over. Vanaf dat moment is Drunen officieel omgedoopt tot Dwergonië en kan het feest echt beginnen! \nEen weekend vol feest en optochten\nVanaf vrijdag 28 februari gaat carnaval in volle gang. De kroegen en feestzalen openen hun deuren en overal is livemuziek\, polonaises en gezelligheid. Op zaterdag en zondag vinden de grote optochten plaats\, waarbij praalwagens\, dweilorkesten en verklede groepen de straten vullen. \nDe grote Dwergonië optocht is elk jaar een van de hoogtepunten. Carnavalsverenigingen en groepen werken maandenlang aan de meest indrukwekkende wagens\, vaak met humoristische en maatschappijkritische thema’s. Het publiek moedigt de deelnemers enthousiast aan\, en aan het einde van de optocht worden de mooiste creaties beloond met prijzen. \nVoor de kinderen is er een speciale jeugdoptocht\, waar jonge carnavalsvierders in hun mooiste kostuums meelopen en mee kunnen dingen naar leuke prijzen. \nMuziek en gezelligheid in de kroegen\nCarnaval draait natuurlijk ook om muziek en gezelligheid. In de plaatselijke cafés en zalen treden carnavalsbands en artiesten op\, en overal hoor je de bekende carnavalskrakers. Van meezingers tot nieuwe hits\, het feest gaat door tot in de late uurtjes. \nIn Dwergonië zijn verschillende kroegentochten en themafeesten te vinden\, waarbij feestvierders van de ene naar de andere locatie trekken. Dit zorgt voor een geweldige sfeer en ontmoetingen met vrienden en bekenden. \nCarnaval voor iedereen\nWat carnaval in Dwergonië zo bijzonder maakt\, is dat het een feest is voor iedereen. Jong en oud\, inwoners en bezoekers: iedereen is welkom om mee te doen. Er zijn speciale evenementen voor senioren\, zoals een carnavalsmiddag in verzorgingshuizen\, en ook voor mensen met een beperking zijn er aangepaste feesten. Dit zorgt ervoor dat werkelijk iedereen de magie van carnaval kan ervaren. \nDinsdag: afscheid nemen van het feest\nOp dinsdag 4 maart komt carnaval langzaam ten einde. Veel carnavalsvierders halen nog een keer alles uit de kast tijdens de traditionele Vastelaovond. De laatste biertjes worden gedronken\, de laatste polonaises gelopen\, en tegen middernacht is het tijd voor de afsluiting. \nEen van de meest symbolische momenten is de verbranding van de dwerg\, waarmee carnaval officieel wordt afgesloten. Dit is een emotioneel moment voor veel feestgangers\, want het betekent dat het feest weer voorbij is. Maar niet getreurd: na een korte periode van rust beginnen de voorbereidingen voor carnaval 2026 alweer! \nBekijk het volledige programma op de website\nWil je precies weten welke evenementen er tijdens carnaval 2025 in Dwergonië te beleven zijn? Bekijk dan het volledige programma op www.dwergonie.nl en mis niets van dit geweldige feest! \nTrek je mooiste kostuum aan\, oefen je polonaise en bereid je voor op vijf dagen vol gezelligheid\, muziek en plezier. Alaaf! 🎭🎉 \n\n 
URL:https://www.drunenduinendorp.nl/kalender/carnaval-2025-dwergonie-drunen/
LOCATION:Centrumkern Drunen\, Raadhuisplein\, Drunen\, 5151 JH\, Netherlands
ATTACH;FMTTYPE=image/webp:https://www.drunenduinendorp.nl/wp-content/uploads/2025/02/carnaval.webp
ORGANIZER;CN="Dwergonie":MAILTO:info@dwergonie.nl
END:VEVENT
END:VCALENDAR